BEGIN:VCALENDAR
VERSION:2.0
PRODID:-//The Polly Klaas Community Theater - ECPv6.15.20//NONSGML v1.0//EN
CALSCALE:GREGORIAN
METHOD:PUBLISH
X-WR-CALNAME:The Polly Klaas Community Theater
X-ORIGINAL-URL:https://www.pollyklaastheater.org
X-WR-CALDESC:Events for The Polly Klaas Community Theater
REFRESH-INTERVAL;VALUE=DURATION:PT1H
X-Robots-Tag:noindex
X-PUBLISHED-TTL:PT1H
BEGIN:VTIMEZONE
TZID:America/Los_Angeles
BEGIN:DAYLIGHT
TZOFFSETFROM:-0800
TZOFFSETTO:-0700
TZNAME:PDT
DTSTART:20230312T100000
END:DAYLIGHT
BEGIN:STANDARD
TZOFFSETFROM:-0700
TZOFFSETTO:-0800
TZNAME:PST
DTSTART:20231105T090000
END:STANDARD
BEGIN:DAYLIGHT
TZOFFSETFROM:-0800
TZOFFSETTO:-0700
TZNAME:PDT
DTSTART:20240310T100000
END:DAYLIGHT
BEGIN:STANDARD
TZOFFSETFROM:-0700
TZOFFSETTO:-0800
TZNAME:PST
DTSTART:20241103T090000
END:STANDARD
BEGIN:DAYLIGHT
TZOFFSETFROM:-0800
TZOFFSETTO:-0700
TZNAME:PDT
DTSTART:20250309T100000
END:DAYLIGHT
BEGIN:STANDARD
TZOFFSETFROM:-0700
TZOFFSETTO:-0800
TZNAME:PST
DTSTART:20251102T090000
END:STANDARD
END:VTIMEZONE
BEGIN:VEVENT
DTSTART;TZID=America/Los_Angeles:20240112T190000
DTEND;TZID=America/Los_Angeles:20240112T210000
DTSTAMP:20260422T030458
CREATED:20231205T194519Z
LAST-MODIFIED:20231205T194519Z
UID:10000116-1705086000-1705093200@www.pollyklaastheater.org
SUMMARY:Men of Worth in Concert
DESCRIPTION:January 12\, 2024 – Doors Open at 6:30PM – Show Starts at 7:00PM \n\n\nThe name “Men of Worth” was chosen from the title of a folk song written by the Scottish singer/songwriter Archie Fisher. \n\nTogether Men of Worth blend their voices with harmony and support their collection of songs with their varied selection of instruments. They have a very simple approach to their presentation\, and in keeping with tradition\, remain true to the music and story. Their show is a unique combination of humour\, exciting tunes\, and soulful\, heartfelt ballads. \nMen of Worth are an international act\, and have earned much respect and success in over thirty years of touring together. Performing concerts and festivals\, with twelve albums to their credit; Men of Worth continue the very tradition from which they've evolved. \n\n\nClick the following link for tickets: \nhttp://www.menofworth.com/Calendar.asp?View=EVENT&EventID=982&Date=01/12/2024&SectionID=-1
URL:https://www.pollyklaastheater.org/event/men-of-worth-in-concert/
LOCATION:Polly Klaas Community Theater\, 417 Western Avenue\, Petaluma\, CA\, 94952\, United States
CATEGORIES:PKCT Events
ATTACH;FMTTYPE=image/jpeg:https://www.pollyklaastheater.org/wp-content/uploads/2023/12/B027new.jpg
END:VEVENT
END:VCALENDAR